BEGIN:VCALENDAR
VERSION:2.0
PRODID:-//ChamberMaster//Event Calendar 2.0//EN
METHOD:PUBLISH
X-PUBLISHED-TTL:P3D
REFRESH-INTERVAL:P3D
CALSCALE:GREGORIAN
BEGIN:VEVENT
DTSTART:20130814T003000Z
DTEND:20130814T003000Z
X-MICROSOFT-CDO-ALLDAYEVENT:FALSE
SUMMARY:Cancelled Tonight --Big Screen Movies on the Beach- Kung Fu Panda
DESCRIPTION:Movie has been CANCELLED tonight due to weather conditions\n\n\n\nKung Fu Panda\n\n\n\nA clumsy panda bear becomes an unlikely kung fu hero when a treacherous enemy spreads chaos throughout the countryside in this animated martial arts adventure. On the surface\, Po may look like just another portly panda bear\, but beneath his fur he bears the mark of the chosen one. By day\, Po works faithfully in his family's noodle shop\, but by night he dreams of becoming a true master of the martial arts. Now an ancient prophecy has come to pass\, and Po realizes that he is the only one who can save his people from certain destruction. With time running short and malevolent snow leopard Tai Lung closing in\, Furious Five legends Tigress\, Crane\, Mantis\, Viper\, Monkey\, and their wise sensei\, Master Shifu\, all draw on their vast knowledge of fighting skills in order to transform a lumbering panda bear into a lethal fighting machine.\n\n\n\n\n\nFamily friendly movies are shown on a giant screen on the beach.  Bring your beach chairs and blankets and enjoy a fun night out on the beach.\n\n\n\n\n\nJuly 9 - Puss & Boots\n\nJuly 16 - Little Giants\n\nJuly 23 - Brave\n\nJuly 30 - Big Miracle\n\nAugust 6 - The Muppets (2011)\n\nAugust 13 - Kung Fu Panda\n\nAugust 20 - The Little Rascals
X-ALT-DESC;FMTTYPE=text/html:<span style="font-size:14px\;"><span style="font-family: comic sans ms\;"><span style="font-size:18px\;"><strong><span style="color:#ff0000\;">Movie has been CANCELLED tonight due to weather conditions</span><br />\n<br />\nKung Fu Panda</strong></span></span></span><br />\n<br />\n<span style="font-size:14px\;"><span style="font-family: comic sans ms\;">A clumsy panda bear becomes an unlikely kung fu hero when a treacherous enemy spreads chaos throughout the countryside in this animated martial arts adventure. On the surface\, Po may look like just another portly panda bear\, but beneath his fur he bears the mark of the chosen one. By day\, Po works faithfully in his family&#39\;s noodle shop\, but by night he dreams of becoming a true master of the martial arts. Now an ancient prophecy has come to pass\, and Po realizes that he is the only one who can save his people from certain destruction. With time running short and malevolent snow leopard Tai Lung closing in\, Furious Five legends Tigress\, Crane\, Mantis\, Viper\, Monkey\, and their wise sensei\, Master Shifu\, all draw on their vast knowledge of fighting skills in order to transform a lumbering panda bear into a lethal fighting machine.</span></span><br />\n<br />\n<br />\n<span style="font-size:14px\;"><span style="font-family: comic sans ms\;"><font class="SmallText">Family friendly movies are shown on a giant screen on the beach.&nbsp\; Bring your beach chairs and blankets and enjoy a fun night out on the beach.<br />\n<br />\n<br />\nJuly 9 - Puss &amp\; Boots<br />\nJuly 16 - Little Giants<br />\nJuly 23 - Brave<br />\nJuly 30 - Big Miracle<br />\nAugust 6 - The Muppets (2011)<br />\nAugust 13 - Kung Fu Panda<br />\nAugust 20 - The Little Rascals</font></span></span>
LOCATION:Atlantic Beach Park 321 Atlantic Ave Misquamicut\, RI
UID:e.726.3589
SEQUENCE:3
DTSTAMP:20260422T003752Z
URL:http://public.oceanchamber.org/events/details/big-screen-movies-on-the-beach-2013-3589
END:VEVENT

END:VCALENDAR
