BEGIN:VCALENDAR
VERSION:2.0
PRODID:-//ChamberMaster//Event Calendar 2.0//EN
METHOD:PUBLISH
X-PUBLISHED-TTL:P3D
REFRESH-INTERVAL:P3D
CALSCALE:GREGORIAN
BEGIN:VEVENT
DTSTART:20130724T003000Z
DTEND:20130724T003000Z
X-MICROSOFT-CDO-ALLDAYEVENT:FALSE
SUMMARY:Big Screen Movies on the Beach- Brave
DESCRIPTION:Brave\n\n\n\nMerida is a skilled archer and impetuous daughter of King Fergus and Queen Elinor determined to carve her own path in life\, Merida defies an age-old custom sacred to the uproarious lords of the land: massive Lord MacGuffin\, surly Lord Macintos and cantankerous Lord Dingwall. Merida's actions inadvertently unleash chaos and fury in the kingdom\, and when she turns to an eccentric old Witch for help\, she is granted an ill-fated wish. The ensuing peril forces Merida to discover the meaning of true bravery in order to undo a beastly curse before it's too late.\n\n\n\nFamily friendly movies are shown on a giant screen on the beach.  Bring your beach chairs and blankets and enjoy a fun night out on the beach.\n\n\n\n\n\nJuly 9 - Puss & Boots\n\nJuly 16 - Little Giants\n\nJuly 23 - Brave\n\nJuly 30 - Big Miracle\n\nAugust 6 - The Muppets (2011)\n\nAugust 13 - Kung Fu Panda\n\nAugust 20 - The Little Rascals
X-ALT-DESC;FMTTYPE=text/html:<span style="font-size:14px\;"><span style="font-family: comic sans ms\;"><span style="font-size:18px\;"><strong>Brave</strong></span></span></span><br />\n<br />\n<span style="font-family:calibri\,sans-serif\;"><span style="font-size:11.0pt\;">Merida is a skilled archer and impetuous daughter of King Fergus and Queen Elinor determined to carve her own path in life\, Merida defies an age-old custom sacred to the uproarious lords of the land: massive Lord MacGuffin\, surly Lord Macintos and cantankerous Lord Dingwall. Merida&#39\;s actions inadvertently unleash chaos and fury in the kingdom\, and when she turns to an eccentric old Witch for help\, she is granted an ill-fated wish. The ensuing peril forces Merida to discover the meaning of true bravery in order to undo a beastly curse before it&#39\;s too late.</span></span><br />\n<br />\n<span style="font-size:14px\;"><span style="font-family: comic sans ms\;"><font class="SmallText">Family friendly movies are shown on a giant screen on the beach.&nbsp\; Bring your beach chairs and blankets and enjoy a fun night out on the beach.<br />\n<br />\n<br />\nJuly 9 - Puss &amp\; Boots<br />\nJuly 16 - Little Giants<br />\nJuly 23 - Brave<br />\nJuly 30 - Big Miracle<br />\nAugust 6 - The Muppets (2011)<br />\nAugust 13 - Kung Fu Panda<br />\nAugust 20 - The Little Rascals</font></span></span><br />\n
LOCATION:Atlantic Beach Park 321 Atlantic Ave Misquamicut\, RI
UID:e.726.3586
SEQUENCE:3
DTSTAMP:20260422T020349Z
URL:http://public.oceanchamber.org/events/details/big-screen-movies-on-the-beach-2013-3586
END:VEVENT

END:VCALENDAR
