BEGIN:VCALENDAR
VERSION:2.0
PRODID:-//ChamberMaster//Event Calendar 2.0//EN
METHOD:PUBLISH
X-PUBLISHED-TTL:P3D
REFRESH-INTERVAL:P3D
CALSCALE:GREGORIAN
BEGIN:VEVENT
DTSTART:20130710T003000Z
DTEND:20130710T003000Z
X-MICROSOFT-CDO-ALLDAYEVENT:FALSE
SUMMARY:Cancelled-Big Screen Movies on the Beach- Puss & Boots
DESCRIPTION:Canceled due to weather concerns.\n\n\n\nPuss & Boots\n\n\n\nLong before he even met Shrek\, the notorious fighter\, lover and outlaw Puss in Boots becomes a hero when he sets off on an adventure with the tough and street smart Kitty Softpaws and the mastermind Humpty Dumpty to save his town. This is the true story of The Cat\, The Myth\, The Legend... The Boots.\n\n\n\nFamily friendly movies are shown on a giant screen on the beach.  Bring your beach chairs and blankets and enjoy a fun night out on the beach.\n\n\n\nJuly 9 - Puss & Boots\n\nJuly 16 - Little Giants\n\nJuly 23 - Brave\n\nJuly 30 - Big Miracle\n\nAugust 6 - The Muppets (2011)\n\nAugust 13 - Kung Fu Panda\n\nAugust 20 - The Little Rascals
X-ALT-DESC;FMTTYPE=text/html:<span style="font-size:18px\;"><span style="color:#ff0000\;">Canceled due to weather concerns.</span></span><br />\n<br />\n<span style="font-size:14px\;"><span style="font-family: comic sans ms\;"><span style="font-size:18px\;"><strong>Puss &amp\; Boots</strong></span><br />\n<br />\nLong before he even met Shrek\, the notorious fighter\, lover and outlaw Puss in Boots becomes a hero when he sets off on an adventure with the tough and street smart Kitty Softpaws and the mastermind Humpty Dumpty to save his town. This is the true story of The Cat\, The Myth\, The Legend... The Boots.</span></span><br />\n<br />\n<span style="font-size:14px\;"><span style="font-family: comic sans ms\;"><font class="SmallText">Family friendly movies are shown on a giant screen on the beach.&nbsp\; Bring your beach chairs and blankets and enjoy a fun night out on the beach.</font></span></span><br />\n<br />\n<span style="font-family: 'comic sans ms'\; font-size: 14px\;">July 9 - Puss &amp\; Boots</span><br />\n<span style="font-size:14px\;"><span style="font-family: comic sans ms\;"><font class="SmallText">July 16 - Little Giants<br />\nJuly 23 - Brave<br />\nJuly 30 - Big Miracle<br />\nAugust 6 - The Muppets (2011)<br />\nAugust 13 - Kung Fu Panda<br />\nAugust 20 - The Little Rascals</font></span></span><br />\n
LOCATION:Atlantic Beach Park 321 Atlantic Ave Misquamicut\, RI
UID:e.726.3584
SEQUENCE:3
DTSTAMP:20260422T003737Z
URL:http://public.oceanchamber.org/events/details/big-screen-movies-on-the-beach-2013-3584
END:VEVENT

END:VCALENDAR
