BEGIN:VCALENDAR
VERSION:2.0
PRODID:-//ChamberMaster//Event Calendar 2.0//EN
METHOD:PUBLISH
X-PUBLISHED-TTL:P3D
REFRESH-INTERVAL:P3D
CALSCALE:GREGORIAN
BEGIN:VEVENT
DTSTART:20120104T220000Z
DTEND:20120105T010000Z
X-MICROSOFT-CDO-ALLDAYEVENT:FALSE
SUMMARY:Artists Cooperative Gallery of Westerly
DESCRIPTION:January Show at the Artists' Cooperative Gallery of Westerly:  "BENEATH THE SURFACE" - Artists sharing their secrets.\n\n\n\n\n\n\n\nGALLERY HOURS:\n\nTUESDAY THROUGH SATURDAY - 10AM TO 5PM\, FRIDAYS - 5PM TO 8PM\n\n\n\nACGOW IS A NON-PROFIT ORGANIZATION\n\nTAX FREE SHOPPING IN WESTERLY'S ART ZONE
X-ALT-DESC;FMTTYPE=text/html:&nbsp\;<span style="font-family: arial\,sans-serif">January Show at the Artists&#39\; Cooperative Gallery of Westerly: &nbsp\;&quot\;BENEATH THE SURFACE&rdquo\; - Artists sharing their secrets.</span><br />\n<br />\n<br />\n<br />\nGALLERY HOURS:<br />\nTUESDAY THROUGH SATURDAY - 10AM TO 5PM\, FRIDAYS - 5PM TO 8PM<br />\n<br />\nACGOW IS A NON-PROFIT ORGANIZATION<br />\nTAX FREE SHOPPING IN WESTERLY&rsquo\;S ART ZONE<br />\n
LOCATION:The Artists Cooperative Gallery of Westerly 7 Canal St Westerly\, RI
UID:e.726.1500
SEQUENCE:3
DTSTAMP:20260423T034646Z
URL:http://public.oceanchamber.org/events/details/artists-cooperative-gallery-of-westerly-1500
END:VEVENT

END:VCALENDAR
