BEGIN:VCALENDAR
VERSION:2.0
PRODID:-//ChamberMaster//Event Calendar 2.0//EN
METHOD:PUBLISH
X-PUBLISHED-TTL:P3D
REFRESH-INTERVAL:P3D
CALSCALE:GREGORIAN
BEGIN:VEVENT
DTSTART:20130606T130000Z
DTEND:20130606T210000Z
X-MICROSOFT-CDO-ALLDAYEVENT:FALSE
SUMMARY:Annual RI Scottish Highland Festival
DESCRIPTION:Washington County Fairgrounds. Please call (401) 596 - 5849 or (860) 889 - 8022 for more information.
X-ALT-DESC;FMTTYPE=text/html:Washington County Fairgrounds. Please call (401) 596 - 5849 or (860) 889 - 8022 for more information.
LOCATION:Washington County Fairgrounds Richmond\, RI
UID:e.726.3306
SEQUENCE:3
DTSTAMP:20260422T022614Z
URL:http://public.oceanchamber.org/events/details/annual-ri-scottish-highland-festival-3306
END:VEVENT

END:VCALENDAR
