BEGIN:VCALENDAR
VERSION:2.0
PRODID:-//ChamberMaster//Event Calendar 2.0//EN
METHOD:PUBLISH
X-PUBLISHED-TTL:P3D
REFRESH-INTERVAL:P3D
CALSCALE:GREGORIAN
BEGIN:VEVENT
DTSTART:20121215T230000Z
DTEND:20121216T040000Z
X-MICROSOFT-CDO-ALLDAYEVENT:FALSE
SUMMARY:Annual KMA Holiday Party
DESCRIPTION:Buffet Dinner\, DJ (Jam Session Entertainment)\, Dancing\, Small Gifts for Kids... Adults Tickets $35\, Kids Under 12 $20 (Chicken Fingers/Fries\, plus buffet)\n		\n	\n\n\n	 \n \n\n\n	\n		\n			\n				\n\n				This is a family event\, we encourage you to bring the kids!!
X-ALT-DESC;FMTTYPE=text/html:<table align="center" border="0" cellpadding="0" cellspacing="0" style="width:100.0%\;" width="100%">\n	<tbody>\n		<tr>\n			<td style="padding:4.2pt 12.0pt 0in 12.0pt\;vertical-align:top\;">\n				<strong><span style="font-family:trebuchet ms\,sans-serif\;"><span style="font-size:18.0pt\;">Buffet Dinner\, DJ (Jam Session Entertainment)\, Dancing\, Small Gifts for Kids... Adults Tickets $35\, Kids Under 12 $20 (Chicken Fingers/Fries\, plus buffet)</span></span></strong></td>\n		</tr>\n	</tbody>\n</table>\n<div style="clear:both\;">\n	&nbsp\;</div>\n&nbsp\;<br />\n<table align="center" border="0" cellpadding="0" cellspacing="0" id="content_LETTER.BLOCK17" style="width:100.0%\;" width="100%">\n	<tbody>\n		<tr>\n			<td style="padding:4.2pt 12.0pt 4.2pt 12.0pt\;vertical-align:top\;">\n				<br />\n				<strong><em><span style="font-family:trebuchet ms\,sans-serif\;"><span style="font-size:10.0pt\;">This is a family event\, we encourage you to bring the kids!!</span></span></em></strong></td>\n		</tr>\n	</tbody>\n</table>
LOCATION:Venice Restaurant
UID:e.726.3123
SEQUENCE:3
DTSTAMP:20260422T112356Z
URL:http://public.oceanchamber.org/events/details/annual-kma-holiday-party-3123
END:VEVENT

END:VCALENDAR
