BEGIN:VCALENDAR
VERSION:2.0
PRODID:-//ChamberMaster//Event Calendar 2.0//EN
METHOD:PUBLISH
X-PUBLISHED-TTL:P3D
REFRESH-INTERVAL:P3D
CALSCALE:GREGORIAN
BEGIN:VEVENT
DTSTART:20120225T170000Z
DTEND:20120225T220000Z
X-MICROSOFT-CDO-ALLDAYEVENT:FALSE
SUMMARY:Annual Cabin Fever Festival and Chowder Cook Off
DESCRIPTION:At the Olde Mistick Village to benefit the Pawcatuck Neighborhood Center.  Call (860) 599 - 3285 for more information.
X-ALT-DESC;FMTTYPE=text/html:At the Olde Mistick Village to benefit the Pawcatuck Neighborhood Center.  Call (860) 599 - 3285 for more information.
LOCATION:
UID:e.726.1722
SEQUENCE:3
DTSTAMP:20260423T022236Z
URL:http://public.oceanchamber.org/events/details/annual-cabin-fever-festival-and-chowder-cook-off-1722
END:VEVENT

END:VCALENDAR
