BEGIN:VCALENDAR
VERSION:2.0
PRODID:-//ChamberMaster//Event Calendar 2.0//EN
METHOD:PUBLISH
X-PUBLISHED-TTL:P3D
REFRESH-INTERVAL:P3D
CALSCALE:GREGORIAN
BEGIN:VEVENT
DTSTART:20130621T000000Z
DTEND:20130621T013000Z
X-MICROSOFT-CDO-ALLDAYEVENT:FALSE
SUMMARY:Andy Cohen to Kick Off Hot Summer Fun Signature Events at Mohegan Sun
DESCRIPTION:Get prepared for one hot summer when the ultimate Bravolebrity\, Andy Cohen\, visits Mohegan Sun on Thursday\, June 20th for a very well-dressed Reality Check event.  The first free Signature Event of Hot Summer Fun 2013\, Andy will be having a live discussion talking about his book at 8:00pm followed by a free signing event at 8:30pm all in The Shops concourse.\n\n\n\n*Participation is on a first-come\, first serve basis.  Due to time restrictions\, signing personalization or personal photos for signing are prohibited.  Andy Cohen will only be signing his book\, Most Talkative.  This event is bracelet-only.  To receive bracelets\, guests must purchase his book\, Most Talkative\, at Spin Street.  Books will be for sale starting at 10:00am on the day of the event.  One bracelet per purchase.  A limited amount of bracelets and books available.  Participants must have a bracelet in order to gain entry into the signing line.
X-ALT-DESC;FMTTYPE=text/html:Get prepared for one hot summer when the ultimate Bravolebrity\, Andy Cohen\, visits Mohegan Sun on Thursday\, June 20th for a very well-dressed Reality Check event.&nbsp\; The first free Signature Event of Hot Summer Fun 2013\, Andy will be having a live discussion talking about his book at 8:00pm followed by a free signing event at 8:30pm all in The Shops concourse.<br />\n<br />\n*Participation is on a first-come\, first serve basis.&nbsp\; Due to time restrictions\, signing personalization or personal photos for signing are prohibited.&nbsp\; Andy Cohen will only be signing his book\, Most Talkative.&nbsp\; This event is bracelet-only.&nbsp\; To receive bracelets\, guests must purchase his book\, Most Talkative\, at Spin Street.&nbsp\; Books will be for sale starting at 10:00am on the day of the event.&nbsp\; One bracelet per purchase.&nbsp\; A limited amount of bracelets and books available.&nbsp\; Participants must have a bracelet in order to gain entry into the signing line.
LOCATION:The Shops concourse\, Mohegan Sun\, 1 Uncas Boulevard\, Uncasville\, CT 06382
UID:e.726.3836
SEQUENCE:3
DTSTAMP:20260422T022615Z
URL:http://public.oceanchamber.org/events/details/andy-cohen-to-kick-off-hot-summer-fun-signature-events-at-mohegan-sun-3836
END:VEVENT

END:VCALENDAR
