BEGIN:VCALENDAR
VERSION:2.0
PRODID:-//ChamberMaster//Event Calendar 2.0//EN
METHOD:PUBLISH
X-PUBLISHED-TTL:P3D
REFRESH-INTERVAL:P3D
CALSCALE:GREGORIAN
BEGIN:VEVENT
DTSTART:20120127T003000Z
DTEND:20120127T023000Z
X-MICROSOFT-CDO-ALLDAYEVENT:FALSE
SUMMARY:Adventure Series at Mystic Seaport
DESCRIPTION:Mystic Seaport Trustee Bill Cook visited Greenland in 2010 for the second time aboard Resolution\, a 56-foot Bristol Sloop\, to see the spectacular fjords at the southern end of the country. Using his videos and comments\, Bill will tell the real story of sailing in fog and fierce headwinds along a rugged coastline with ice-choked fjords\, "something out of a Tolkien fantasy land."
X-ALT-DESC;FMTTYPE=text/html:Mystic Seaport Trustee Bill Cook visited Greenland in 2010 for the second time aboard <em>Resolution</em>\, a 56-foot Bristol Sloop\, to see the spectacular fjords at the southern end of the country. Using his videos and comments\, Bill will tell the real story of sailing in fog and fierce headwinds along a rugged coastline with ice-choked fjords\, &quot\;something out of a Tolkien fantasy land.&quot\;
LOCATION:Latitude 41° Restaurant at Mystic Seaport
UID:e.726.1588
SEQUENCE:3
DTSTAMP:20260423T034927Z
URL:http://public.oceanchamber.org/events/details/adventure-series-at-mystic-seaport-1588
END:VEVENT

END:VCALENDAR
