BEGIN:VCALENDAR
VERSION:2.0
PRODID:-//ChamberMaster//Event Calendar 2.0//EN
METHOD:PUBLISH
X-PUBLISHED-TTL:P3D
REFRESH-INTERVAL:P3D
CALSCALE:GREGORIAN
BEGIN:VEVENT
DTSTART:20130725T130000Z
DTEND:20130725T190000Z
X-MICROSOFT-CDO-ALLDAYEVENT:FALSE
SUMMARY:Adventure Days for Middle Schoolers: Rock Time
DESCRIPTION:Thursdays in the Dog Days of summer are days of adventure for children ages 11 to 14.  MEMBERS PER CLASS: $90. / NON-MEMBERS PER CLASS: $100. Bring a lunch\, waterbottle\, snack and dress for an active day. Learn the basics of indoor rock climbing at the Rock Spot in Peace Dale\, RI. After a fun time at the rock gym\, we'll break for lunch and lots of local exploring. We'll travel from DPNC by van. Please contact the Denison Pequotsepos Nature Center at 860.536.1216 for reservations.
X-ALT-DESC;FMTTYPE=text/html:<span style="font-size:11.0pt\;">Thursdays in the Dog Days of summer are days of adventure for children ages 11 to 14.&nbsp\; MEMBERS PER CLASS: $90. / NON-MEMBERS PER CLASS: $100. Bring a lunch\, waterbottle\, snack and dress for an active day. Learn the basics of indoor rock climbing at the Rock Spot in Peace Dale\, RI. After a fun time at the rock gym\, we&rsquo\;ll break for lunch and lots of local exploring. We&rsquo\;ll travel from DPNC by van. Please contact the Denison Pequotsepos Nature Center at 860.536.1216 for reservations.</span>
LOCATION:
UID:e.726.3881
SEQUENCE:3
DTSTAMP:20260422T020226Z
URL:http://public.oceanchamber.org/events/details/adventure-days-for-middle-schoolers-rock-time-3881
END:VEVENT

END:VCALENDAR
