BEGIN:VCALENDAR
VERSION:2.0
PRODID:-//ChamberMaster//Event Calendar 2.0//EN
METHOD:PUBLISH
X-PUBLISHED-TTL:P3D
REFRESH-INTERVAL:P3D
CALSCALE:GREGORIAN
BEGIN:VEVENT
DTSTART:20120203T233000Z
DTEND:20120204T040000Z
X-MICROSOFT-CDO-ALLDAYEVENT:FALSE
SUMMARY:6th Annual Aloha Luau
DESCRIPTION:Misquamicut Annual Aloha Luau\n\nFriday February 3rd\, 2012\n\nVenice Ballroom\, Shore Rd. Westerly RI\n\nThe MBA's fundraiser to support free family\n\nsummer activities at the beach!\n\nMusic\, Pig Roast\, Silent Auction\, Vacation packages\n\nand great food from area restaurants!\n\n$25 at the door\, $20 in advance\n\ncall 401-322-1026\n\n\n\nPortion of proceeds will benefit the WARM Center and North End Crime Watch. For tickets call 401-322-1026.
X-ALT-DESC;FMTTYPE=text/html:<strong>Misquamicut Annual Aloha Luau</strong><br />\nFriday February 3rd\, 2012<br />\nVenice Ballroom\, Shore Rd. Westerly RI<br />\nThe MBA&#39\;s fundraiser to support free family<br />\nsummer activities at the beach!<br />\nMusic\, Pig Roast\, Silent Auction\, Vacation packages<br />\nand great food from area restaurants!<br />\n$25 at the door\, $20 in advance<br />\ncall 401-322-1026<br />\n<br />\nPortion of proceeds will benefit the WARM Center and North End Crime Watch. For tickets call 401-322-1026.
LOCATION:Venice Ballroom Shore Road Westerly\, RI
UID:e.726.1523
SEQUENCE:3
DTSTAMP:20260423T020552Z
URL:http://public.oceanchamber.org/events/details/6th-annual-aloha-luau-1523
END:VEVENT

END:VCALENDAR
