BEGIN:VCALENDAR
VERSION:2.0
PRODID:-//ChamberMaster//Event Calendar 2.0//EN
METHOD:PUBLISH
X-PUBLISHED-TTL:P3D
REFRESH-INTERVAL:P3D
CALSCALE:GREGORIAN
BEGIN:VEVENT
DTSTART;VALUE=DATE:20130424
DTEND;VALUE=DATE:20130425
TRANSP:TRANSPARENT
X-MICROSOFT-CDO-ALLDAYEVENT:TRUE
SUMMARY:3rd Annual CU 4 Reality Financial Literacy Fair
DESCRIPTION:Students from Chariho High School in Wood River Junction\, Rhode Island\, and Westerly High School in Westerly Rhode Island\, will be learning the reality of their financial choices and making real-life decisions to help teach them financial skills during the CU 4 Reality Financial Literacy Fair on Wednesday\, April 24th\, 2013.\n\nSponsored by Westerly Community Credit Union\, the CU 4 Reality Financial Literacy Fair is an event that will give Chariho and Westerly High School students a chance to see how career selection impacts their financial well-being and their life choices. Students will create a spending plan based on a salary and career they have already researched\, and juggle needs-versus-wants to make sure they are living within their means.\n\nStudents will then meet with representatives from local auto dealerships\, insurance agents\, lenders\, utility providers\, retailers and others\, to help them understand the real expenses they will face in adulthood and the choices they'll need to make to avoid falling in to debt.\n\n'Financial literacy has been a major focus for our Credit Union for years and this program is a positive addition to our existing programs'\, stated Steve White\, Westerly Community Credit Union President and CEO. 'Our hope is to teach our young adults the importance of good financial management\, so they will have a financially secure adulthood.'\n\nThe CU 4 Reality  Financial Education Program was created by a coalition of credit unions through America's Credit Union Museum. Teachers use an in-class curriculum during the school year to teach students important skills that will equip them to handle money responsibly\, set and adhere to budgets\, and avoid the pitfalls of debt. Additionally\, presentations to reinforce the curriculum are conducted throughout the school year by teachers and Westerly Community Credit Union employees\, focusing on topics such as Savings and Investments\, Checking accounts\, Loans\, Credit\, Online Banking\, and Budgeting.\n\nEvent: CU4Reality Financial Literacy Fair\n\nDate and Time: Wednesday\, April 24th. Event runs from 8:15 AM-12:00 PM\n\nWesterly High School 8:15 AM   10:00 AM\n\nChariho High School 10:15 AM   12:00 PM\n\nLocation: Venice Restaurant\, 165 Shore Road\, Westerly\, RI 02891\n\nWho is Participating: Students from Chariho High School in Wood River Junction\, RI and students from Westerly High School in\, Westerly\, RI.\n\nRepresentatives from Westerly Community Credit Union\, local industries\, and businesses\n\nFor more information\, please contact Westerly Community Credit Union at 401-596-7000\, visit their website at www.westerlyccu.com.
X-ALT-DESC;FMTTYPE=text/html:Students from Chariho High School in Wood River Junction\, Rhode Island\, and Westerly High School in Westerly Rhode Island\, will be learning the reality of their financial choices and making real-life decisions to help teach them financial skills during the CU 4 Reality Financial Literacy Fair on Wednesday\, April 24th\, 2013.<br />\nSponsored by Westerly Community Credit Union\, the CU 4 Reality Financial Literacy Fair is an event that will give Chariho and Westerly High School students a chance to see how career selection impacts their financial well-being and their life choices. Students will create a spending plan based on a salary and career they have already researched\, and juggle needs-versus-wants to make sure they are living within their means.<br />\nStudents will then meet with representatives from local auto dealerships\, insurance agents\, lenders\, utility providers\, retailers and others\, to help them understand the real expenses they will face in adulthood and the choices they&rsquo\;ll need to make to avoid falling in to debt.<br />\n&lsquo\;Financial literacy has been a major focus for our Credit Union for years and this program is a positive addition to our existing programs&rsquo\;\, stated Steve White\, Westerly Community Credit Union President and CEO. &lsquo\;Our hope is to teach our young adults the importance of good financial management\, so they will have a financially secure adulthood.&rsquo\;<br />\nThe CU 4 Reality&trade\; Financial Education Program was created by a coalition of credit unions through America&rsquo\;s Credit Union Museum. Teachers use an in-class curriculum during the school year to teach students important skills that will equip them to handle money responsibly\, set and adhere to budgets\, and avoid the pitfalls of debt. Additionally\, presentations to reinforce the curriculum are conducted throughout the school year by teachers and Westerly Community Credit Union employees\, focusing on topics such as Savings and Investments\, Checking accounts\, Loans\, Credit\, Online Banking\, and Budgeting.<br />\nEvent: CU4Reality Financial Literacy Fair<br />\nDate and Time: Wednesday\, April 24th. Event runs from 8:15 AM-12:00 PM<br />\nWesterly High School 8:15 AM &ndash\; 10:00 AM<br />\nChariho High School 10:15 AM &ndash\; 12:00 PM<br />\nLocation: Venice Restaurant\, 165 Shore Road\, Westerly\, RI 02891<br />\nWho is Participating: Students from Chariho High School in Wood River Junction\, RI and students from Westerly High School in\, Westerly\, RI.<br />\nRepresentatives from Westerly Community Credit Union\, local industries\, and businesses<br />\nFor more information\, please contact Westerly Community Credit Union at 401-596-7000\, visit their website at www.westerlyccu.com.
LOCATION:
UID:e.726.3651
SEQUENCE:3
DTSTAMP:20260422T050102Z
URL:http://public.oceanchamber.org/events/details/3rd-annual-cu-4-reality-financial-literacy-fair-3651
END:VEVENT

END:VCALENDAR
