BEGIN:VCALENDAR
VERSION:2.0
PRODID:-//ChamberMaster//Event Calendar 2.0//EN
METHOD:PUBLISH
X-PUBLISHED-TTL:P3D
REFRESH-INTERVAL:P3D
CALSCALE:GREGORIAN
BEGIN:VEVENT
DTSTART:20120108T150000Z
DTEND:20120108T180000Z
X-MICROSOFT-CDO-ALLDAYEVENT:FALSE
SUMMARY:2nd Anniversary Celebration
DESCRIPTION:Join us for our 2nd Anniversary Celebration!\n\nSunday\, January 8\, 2012 at 10 a.m.\n\nOcean Plaza\n\n62 Franklin St.\, Westerly\, RI\n\n401-596-7400\n\noceancommunitycc.org\n\nThen\, at 6 p.m \n\nNeed a miracle ?\n\nJoin us for a special "Miracle Night"\n\nGuest Speaker\, Author & Pastor\n\nRev. Bob Hazlett\n\nhttp://www.touchoffire.org/\n\nGuest Pastors\, Rev.s Brad & Debbie Whipple\n\nSpecial prayer for the\n\nsick or troubled!\n\nWhat a great way to\n\nkick off a New Year!\n\nContemporary worship!\n\nFun Kid's Ministry!\n\nAn inspiring message!\n\nBirthday Cake!
X-ALT-DESC;FMTTYPE=text/html:Join us for our 2nd Anniversary Celebration!<br />\nSunday\, January 8\, 2012 at 10 a.m.<br />\nOcean Plaza<br />\n62 Franklin St.\, Westerly\, RI<br />\n401-596-7400<br />\noceancommunitycc.org<br />\nThen\, at 6 p.m&hellip\;<br />\nNeed a miracle&hellip\;?<br />\nJoin us for a special &ldquo\;Miracle Night&rdquo\;<br />\nGuest Speaker\, Author &amp\; Pastor<br />\nRev. Bob Hazlett<br />\nhttp://www.touchoffire.org/<br />\nGuest Pastors\, Rev.s Brad &amp\; Debbie Whipple<br />\nSpecial prayer for the<br />\nsick or troubled!<br />\nWhat a great way to<br />\nkick off a New Year!<br />\nContemporary worship!<br />\nFun Kid&rsquo\;s Ministry!<br />\nAn inspiring message!<br />\nBirthday Cake!
LOCATION:
UID:e.726.1587
SEQUENCE:3
DTSTAMP:20260423T033014Z
URL:http://public.oceanchamber.org/events/details/2nd-anniversary-celebration-1587
END:VEVENT

END:VCALENDAR
