BEGIN:VCALENDAR
VERSION:2.0
PRODID:-//ChamberMaster//Event Calendar 2.0//EN
METHOD:PUBLISH
X-PUBLISHED-TTL:P3D
REFRESH-INTERVAL:P3D
CALSCALE:GREGORIAN
BEGIN:VEVENT
DTSTART;VALUE=DATE:20130427
DTEND;VALUE=DATE:20130428
TRANSP:TRANSPARENT
X-MICROSOFT-CDO-ALLDAYEVENT:TRUE
SUMMARY:15th Pawcatuck River Duck Race
DESCRIPTION:20\,000 rubber ducks are dumped en masse in the Pawcatuck River on the Westerly\, Rhode Island and Pawcatuck\, Connecticut border for a race that benefits 45+ local charities.  Children's games\, rides\, food booths\, and other activities make this a wonderful family event.\n\n\n\nClick Here for the list of Winners
X-ALT-DESC;FMTTYPE=text/html:20\,000 rubber ducks are dumped en masse in the Pawcatuck River on the Westerly\, Rhode Island and Pawcatuck\, Connecticut border for a race that benefits 45+ local charities.&nbsp\; Children&#39\;s games\, rides\, food booths\, and other activities make this a wonderful family event.<br />\n<br />\n<a href="http://cloud.chambermaster.com/userfiles/UserFiles/chambers/726/File/Duckwinners2013.pdf">Click Here for the list of Winners</a><br />\n<br />\n
LOCATION:Downtown Westerly 37 Main St. Westerly\, RI
UID:e.726.3174
SEQUENCE:3
DTSTAMP:20260422T050030Z
URL:http://public.oceanchamber.org/events/details/15th-pawcatuck-river-duck-race-3174
END:VEVENT

END:VCALENDAR
