BEGIN:VCALENDAR
VERSION:2.0
PRODID:-//ChamberMaster//Event Calendar 2.0//EN
METHOD:PUBLISH
X-PUBLISHED-TTL:P3D
REFRESH-INTERVAL:P3D
CALSCALE:GREGORIAN
BEGIN:VEVENT
DTSTART:20120210T230000Z
DTEND:20120211T020000Z
X-MICROSOFT-CDO-ALLDAYEVENT:FALSE
SUMMARY:14th Annual Gourmet Dinner at St. Edmund's Retreat
DESCRIPTION:All are invited to attend St. Edmund's Retreat's 14th Annual Gourmet Dinner\, the "Hail to the Chief" Gala on Friday\, February 10\, 2012 in honor of President's Day.  Join the St.  Edmund's Community and other guests for a spectacular night of grand spirit and elegant dining  prepared by host and gourmet chef Father Thomas F.X. Hoar\, SSE\, Ph.D.\, President.\n\n	 \n\n	The evening will begin at 6:00 p.m. with a "Fireside Chat" accompanied by fine wines and hors d'oeuvres served in the elegant Enders House living room.  A sumptuous five course meal will  follow with a feast of dishes especially created by Father Tom in honor of our U.S. Presidents.\n\n	\n\n	The cost is $150 per person\; $275 a couple.  Reserved tables are available for parties of  8 and 10. Please call for special prices.  Black tie is optional.\n\n	 \n\n	Your support of this incredible culinary tradition helps to support the St. Edmund's Retreat ministry of healing and spiritual renewal.\n\n	 \n\n	Please don't miss this terrific event!  For more information or to make reservations\,\n\n	kindly respond by February 3 to Karen Waugh Maloney 860.536.0565 ext 115 or  \n\n	events@endersisland.com.  You may also register on-line at www.endersisland.com.
X-ALT-DESC;FMTTYPE=text/html:<div>\n	<span style="font-family:arial\,sans-serif\;"><span style="font-size:11.0pt\;">All are invited to attend St. Edmund&rsquo\;s Retreat&rsquo\;s 14<sup>th</sup> Annual Gourmet Dinner\, the</span></span> <span style="font-family:arial\,sans-serif\;"><span style="font-size:11.0pt\;">&ldquo\;Hail to the Chief&rdquo\; Gala on Friday\, February 10\, 2012 in honor of President&rsquo\;s Day.&nbsp\; Join the St.&nbsp\; </span></span><span style="font-family:arial\,sans-serif\;"><span style="font-size:11.0pt\;">Edmund&rsquo\;s Community and other guests for a spectacular night of grand spirit and elegant dining&nbsp\; </span></span><span style="font-family:arial\,sans-serif\;"><span style="font-size:11.0pt\;">prepared by host and gourmet chef Father Thomas F.X. Hoar\, SSE\, Ph.D.\, President.</span></span><br />\n	&nbsp\;<br />\n	<span style="font-family:arial\,sans-serif\;"><span style="font-size:11.0pt\;">The evening will begin at 6:00 p.m. with a &ldquo\;Fireside Chat&rdquo\; accompanied by fine wines and hors </span></span><span style="font-family:arial\,sans-serif\;"><span style="font-size:11.0pt\;">d&rsquo\;oeuvres served in the elegant Enders House living room.&nbsp\; A sumptuous five course meal will&nbsp\; </span></span><span style="font-family:arial\,sans-serif\;"><span style="font-size:11.0pt\;">follow with a feast of dishes especially created by Father Tom in honor of our U.S. Presidents.</span></span><br />\n	<br />\n	<span style="font-family:arial\,sans-serif\;"><span style="font-size:11.0pt\;">The cost is $150 per person\; $275 a couple.&nbsp\; Reserved tables are available for parties of&nbsp\; </span></span><span style="font-family:arial\,sans-serif\;"><span style="font-size:11.0pt\;">8 and 10. Please call for special prices.&nbsp\; Black tie is optional.</span></span><br />\n	&nbsp\;<br />\n	<span style="font-family:arial\,sans-serif\;"><span style="font-size:11.0pt\;">Your support of this incredible culinary tradition helps to support the St. Edmund&rsquo\;s Retreat </span></span><span style="font-family:arial\,sans-serif\;"><span style="font-size:11.0pt\;">ministry of healing and spiritual renewal.</span></span><br />\n	&nbsp\;<br />\n	<span style="font-family:arial\,sans-serif\;"><span style="font-size:11.0pt\;">Please don&rsquo\;t miss this terrific event!&nbsp\; For more information or to make reservations\,</span></span><br />\n	<span style="font-family:arial\,sans-serif\;"><span style="font-size:11.0pt\;">kindly respond by February 3 to Karen Waugh Maloney 860.536.0565 ext 115 or&nbsp\; </span></span><br />\n	<span style="font-family:arial\,sans-serif\;"><span style="font-size:11.0pt\;"><a href="mailto:events@endersisland.com">events@endersisland.com</a>.&nbsp\; You may also register on-line at <a href="http://www.endersisland.com/">www.endersisland.com</a>.</span></span><br />\n	&nbsp\;<br />\n	&nbsp\;</div>\n
LOCATION:
UID:e.726.1945
SEQUENCE:3
DTSTAMP:20260423T020922Z
URL:http://public.oceanchamber.org/events/details/14th-annual-gourmet-dinner-at-st-edmund-s-retreat-1945
END:VEVENT

END:VCALENDAR
